BEGIN:VCALENDAR
VERSION:2.0
PRODID:-//Sabre//Sabre VObject 4.5.8//EN
CALSCALE:GREGORIAN
NAME:PG Windach
X-WR-CALNAME:PG Windach
BEGIN:VEVENT
UID:sabre-vobject-ac46b3e5-0396-4580-a21a-ab5193b56e16
DTSTAMP:20260421T200845Z
SUMMARY:Hl. Messe
DESCRIPTION:https://pg-windach.de/hl-messe_id39608
DTSTART;TZID=Europe/Berlin:20260422T190000
DURATION:PT30M
LOCATION:St. Urban
END:VEVENT
BEGIN:VEVENT
UID:sabre-vobject-c44375d5-5958-4043-9b6c-b76dda6fdaad
DTSTAMP:20260421T200845Z
SUMMARY:Rosenkranz zur Göttl. Barmherzigkeit
DESCRIPTION:https://pg-windach.de/rosenkranz-zur-goettl-barmherzigkeit_id39
 554
DTSTART;TZID=Europe/Berlin:20260423T150000
DURATION:PT30M
LOCATION:Heilig Kreuz
END:VEVENT
BEGIN:VEVENT
UID:sabre-vobject-d5ffd10b-e88b-4c2e-8a0e-afed115430fa
DTSTAMP:20260421T200845Z
SUMMARY:Hl. Messe
DESCRIPTION:https://pg-windach.de/hl-messe_id39584
DTSTART;TZID=Europe/Berlin:20260423T190000
DURATION:PT30M
LOCATION:St. Jakobus maj.
END:VEVENT
BEGIN:VEVENT
UID:sabre-vobject-01c86e31-e021-4276-bb4a-a332fe4d13e9
DTSTAMP:20260421T200845Z
SUMMARY:Rosenkranz
DESCRIPTION:https://pg-windach.de/rosenkranz_id39645
DTSTART;TZID=Europe/Berlin:20260425T180000
DURATION:PT30M
LOCATION:Kirche Mariä Heimsuchung Windach\, Maria am Wege 1\, 86949 Windac
 h
END:VEVENT
BEGIN:VEVENT
UID:sabre-vobject-81e4a8da-6b22-496c-b92d-d8dc128c37cb
DTSTAMP:20260421T200845Z
SUMMARY:VAM
DESCRIPTION:https://pg-windach.de/vam_id39643
DTSTART;TZID=Europe/Berlin:20260425T190000
DURATION:PT30M
LOCATION:Mariä Schmerzen
END:VEVENT
BEGIN:VEVENT
UID:sabre-vobject-fc6abb69-e843-4177-96ae-a21a0532ee9c
DTSTAMP:20260421T200845Z
SUMMARY:Erstkommunion
DESCRIPTION:https://pg-windach.de/erstkommunion_id39576
DTSTART;TZID=Europe/Berlin:20260426T100000
DURATION:PT30M
LOCATION:Kirche Maria Immaculata Greifenberg\, Hauptstraße 34\, 86926 Grei
 fenberg
END:VEVENT
BEGIN:VEVENT
UID:sabre-vobject-e21aa842-df4c-4176-bd5a-7bb32cb14267
DTSTAMP:20260421T200845Z
SUMMARY:Erstkommunion
DESCRIPTION:https://pg-windach.de/erstkommunion_id39644
DTSTART;TZID=Europe/Berlin:20260426T100000
DURATION:PT30M
LOCATION:Mariä Schmerzen
END:VEVENT
BEGIN:VEVENT
UID:sabre-vobject-67f56d1e-e07f-4663-b3d7-f44acbff1f0a
DTSTAMP:20260421T200845Z
SUMMARY:Erstkommunion
DESCRIPTION:https://pg-windach.de/erstkommunion_id39646
DTSTART;TZID=Europe/Berlin:20260426T100000
DURATION:PT30M
LOCATION:Kirche Mariä Heimsuchung Windach\, Maria am Wege 1\, 86949 Windac
 h
END:VEVENT
BEGIN:VEVENT
UID:sabre-vobject-ea924f45-fe47-4f6b-9d60-8b0c84b6414f
DTSTAMP:20260421T200845Z
SUMMARY:Stille Anbetung
DESCRIPTION:https://pg-windach.de/stille-anbetung_id39585
DTSTART;TZID=Europe/Berlin:20260427T190000
DURATION:PT30M
LOCATION:St. Jakobus maj.
END:VEVENT
BEGIN:VEVENT
UID:sabre-vobject-ba775565-c191-4d3e-acc6-e58c9bdbdb84
DTSTAMP:20260421T200845Z
SUMMARY:Rosenkranz
DESCRIPTION:https://pg-windach.de/rosenkranz_id39652
DTSTART;TZID=Europe/Berlin:20260428T183000
DURATION:PT30M
LOCATION:Kirche Mariä Heimsuchung Windach\, Maria am Wege 1\, 86949 Windac
 h
END:VEVENT
BEGIN:VEVENT
UID:sabre-vobject-a65412d7-0765-4c12-b772-eb4eac18e648
DTSTAMP:20260421T200845Z
SUMMARY:Hl. Messe
DESCRIPTION:https://pg-windach.de/hl-messe_id39647
DTSTART;TZID=Europe/Berlin:20260428T190000
DURATION:PT30M
LOCATION:Kirche Mariä Heimsuchung Windach\, Maria am Wege 1\, 86949 Windac
 h
END:VEVENT
BEGIN:VEVENT
UID:sabre-vobject-a8a49211-44a6-4f6f-9758-b2dc3974961f
DTSTAMP:20260421T200845Z
SUMMARY:Hl. Messe
DESCRIPTION:https://pg-windach.de/hl-messe_id39589
DTSTART;TZID=Europe/Berlin:20260429T090000
DURATION:PT30M
LOCATION:St. Peter und Paul
END:VEVENT
BEGIN:VEVENT
UID:sabre-vobject-c89dd191-ffa6-4cae-bba3-46abd611149d
DTSTAMP:20260421T200845Z
SUMMARY:Hl. Messe
DESCRIPTION:https://pg-windach.de/hl-messe_id39572
DTSTART;TZID=Europe/Berlin:20260430T090000
DURATION:PT30M
LOCATION:St. Martin
END:VEVENT
BEGIN:VEVENT
UID:sabre-vobject-fc4553cb-4753-48d2-8af0-4f7dd0e0191d
DTSTAMP:20260421T200845Z
SUMMARY:Rosenkranz zur Göttl. Barmherzigkeit
DESCRIPTION:https://pg-windach.de/rosenkranz-zur-goettl-barmherzigkeit_id39
 562
DTSTART;TZID=Europe/Berlin:20260430T150000
DURATION:PT30M
LOCATION:Heilig Kreuz
END:VEVENT
BEGIN:VEVENT
UID:sabre-vobject-a8a5ee07-369b-412a-82ec-797edec2a4b7
DTSTAMP:20260421T200845Z
SUMMARY:Erste feierliche Maiandacht
DESCRIPTION:https://pg-windach.de/erste-feierliche-maiandacht_id39648
DTSTART;TZID=Europe/Berlin:20260501T190000
DURATION:PT30M
LOCATION:Kirche Mariä Heimsuchung Windach\, Maria am Wege 1\, 86949 Windac
 h
END:VEVENT
BEGIN:VEVENT
UID:sabre-vobject-b5134761-692d-4e99-8872-8daf16583a93
DTSTAMP:20260421T200845Z
SUMMARY:Rosenkranz
DESCRIPTION:https://pg-windach.de/rosenkranz_id39649
DTSTART;TZID=Europe/Berlin:20260502T180000
DURATION:PT30M
LOCATION:Kirche Mariä Heimsuchung Windach\, Maria am Wege 1\, 86949 Windac
 h
END:VEVENT
BEGIN:VEVENT
UID:sabre-vobject-7ac0c3ca-9853-4399-b18f-14f215727d64
DTSTAMP:20260421T200845Z
SUMMARY:VAM
DESCRIPTION:https://pg-windach.de/vam_id39586
DTSTART;TZID=Europe/Berlin:20260502T190000
DURATION:PT30M
LOCATION:St. Jakobus maj.
END:VEVENT
BEGIN:VEVENT
UID:sabre-vobject-d46c254f-9f00-4736-97b4-8cfe2a8aeb95
DTSTAMP:20260421T200845Z
SUMMARY:VAM
DESCRIPTION:https://pg-windach.de/vam_id39615
DTSTART;TZID=Europe/Berlin:20260502T190000
DURATION:PT30M
LOCATION:St. Urban
END:VEVENT
BEGIN:VEVENT
UID:sabre-vobject-8c690f96-7b49-42f7-8efa-cc9aac0a9db1
DTSTAMP:20260421T200845Z
SUMMARY:Hl. Messe zum Patrozinium
DESCRIPTION:https://pg-windach.de/hl-messe-zum-patrozinium_id39546
DTSTART;TZID=Europe/Berlin:20260503T090000
DURATION:PT30M
LOCATION:Heilig Kreuz
END:VEVENT
BEGIN:VEVENT
UID:sabre-vobject-bd7121fe-153f-4393-bf5b-9c135ad61765
DTSTAMP:20260421T200845Z
SUMMARY:Hl. Messe
DESCRIPTION:https://pg-windach.de/hl-messe_id39575
DTSTART;TZID=Europe/Berlin:20260503T090000
DURATION:PT30M
LOCATION:Kirche Maria Immaculata Greifenberg\, Hauptstraße 34\, 86926 Grei
 fenberg
END:VEVENT
BEGIN:VEVENT
UID:sabre-vobject-8dbd290d-4541-4e33-a8e8-cdec045d5336
DTSTAMP:20260421T200845Z
SUMMARY:Hl. Messe
DESCRIPTION:https://pg-windach.de/hl-messe_id39591
DTSTART;TZID=Europe/Berlin:20260503T103000
DURATION:PT30M
LOCATION:St. Peter und Paul
END:VEVENT
BEGIN:VEVENT
UID:sabre-vobject-6fae7daf-0bfa-4188-80c3-4dc673667882
DTSTAMP:20260421T200845Z
SUMMARY:Pfarrgottesdienst
DESCRIPTION:https://pg-windach.de/pfarrgottesdienst_id39650
DTSTART;TZID=Europe/Berlin:20260503T103000
DURATION:PT30M
LOCATION:Kirche Mariä Heimsuchung Windach\, Maria am Wege 1\, 86949 Windac
 h
END:VEVENT
BEGIN:VEVENT
UID:sabre-vobject-5c2dcf4f-712d-4b26-adc4-3582f43da4de
DTSTAMP:20260421T200845Z
SUMMARY:Stille Anbetung
DESCRIPTION:https://pg-windach.de/stille-anbetung_id39587
DTSTART;TZID=Europe/Berlin:20260504T190000
DURATION:PT30M
LOCATION:St. Jakobus maj.
END:VEVENT
BEGIN:VEVENT
UID:sabre-vobject-051e1fa9-4d14-4ff8-b620-019db501045e
DTSTAMP:20260421T200845Z
SUMMARY:Hl. Messe
DESCRIPTION:https://pg-windach.de/hl-messe_id39555
DTSTART;TZID=Europe/Berlin:20260505T090000
DURATION:PT30M
LOCATION:Heilig Kreuz
END:VEVENT
BEGIN:VEVENT
UID:sabre-vobject-2cce3d2d-1b29-4429-841b-cddedc266d4f
DTSTAMP:20260421T200845Z
SUMMARY:Gottesdienst\, anschließend Jubilarefeier
DESCRIPTION:https://pg-windach.de/gottesdienst-anschliessend-jubilarefeier_
 id39560
DTSTART;TZID=Europe/Berlin:20260505T150000
DURATION:PT30M
LOCATION:Kirche Maria Immaculata Greifenberg\, Hauptstraße 34\, 86926 Grei
 fenberg
END:VEVENT
BEGIN:VEVENT
UID:sabre-vobject-5729bd88-912a-4174-8018-bef9e0e2801a
DTSTAMP:20260421T200845Z
SUMMARY:Rosenkranz
DESCRIPTION:https://pg-windach.de/rosenkranz_id39651
DTSTART;TZID=Europe/Berlin:20260505T183000
DURATION:PT30M
LOCATION:Kirche Mariä Heimsuchung Windach\, Maria am Wege 1\, 86949 Windac
 h
END:VEVENT
BEGIN:VEVENT
UID:sabre-vobject-5382ca7f-2caf-4b99-bbb6-30258cee7cc9
DTSTAMP:20260421T200845Z
SUMMARY:Hl. Messe
DESCRIPTION:https://pg-windach.de/hl-messe_id39611
DTSTART;TZID=Europe/Berlin:20260506T190000
DURATION:PT30M
LOCATION:St. Urban
END:VEVENT
BEGIN:VEVENT
UID:sabre-vobject-a8791980-3bae-4486-bc1b-fe7e5a1e186b
DTSTAMP:20260421T200845Z
SUMMARY:Rosenkranz zur Göttl. Barmherzigkeit
DESCRIPTION:https://pg-windach.de/rosenkranz-zur-goettl-barmherzigkeit_id39
 610
DTSTART;TZID=Europe/Berlin:20260507T150000
DURATION:PT30M
LOCATION:Heilig Kreuz
END:VEVENT
BEGIN:VEVENT
UID:sabre-vobject-9148905b-072c-4546-a2f2-c18089db41a8
DTSTAMP:20260421T200845Z
SUMMARY:Stille Anbetung
DESCRIPTION:https://pg-windach.de/stille-anbetung_id39653
DTSTART;TZID=Europe/Berlin:20260507T160000
DURATION:PT30M
LOCATION:Kirche Mariä Heimsuchung Windach\, Maria am Wege 1\, 86949 Windac
 h
END:VEVENT
BEGIN:VEVENT
UID:sabre-vobject-e41e0a1f-5dfb-456e-8055-7f29a4b2f488
DTSTAMP:20260421T200845Z
SUMMARY:Hl. Messe
DESCRIPTION:https://pg-windach.de/hl-messe_id39588
DTSTART;TZID=Europe/Berlin:20260507T190000
DURATION:PT30M
LOCATION:St. Jakobus maj.
END:VEVENT
BEGIN:VEVENT
UID:sabre-vobject-b03ecc67-a010-4906-892d-2f13729b0941
DTSTAMP:20260421T200845Z
SUMMARY:Hl. Messe an der Grotte
DESCRIPTION:https://pg-windach.de/hl-messe-an-der-grotte_id39655
DTSTART;TZID=Europe/Berlin:20260508T190000
DURATION:PT30M
LOCATION:Mariä Schmerzen
END:VEVENT
BEGIN:VEVENT
UID:sabre-vobject-cd738f85-f80c-42b3-b5f7-79c3386e1e41
DTSTAMP:20260421T200845Z
SUMMARY:ökumen. Abendgebet
DESCRIPTION:https://pg-windach.de/oekumen-abendgebet_id39654
DTSTART;TZID=Europe/Berlin:20260508T200000
DURATION:PT30M
LOCATION:Kirche Mariä Heimsuchung Windach\, Maria am Wege 1\, 86949 Windac
 h
END:VEVENT
BEGIN:VEVENT
UID:sabre-vobject-c5f9da62-5de4-435d-82b8-ec7bfa1bc9c0
DTSTAMP:20260421T200845Z
SUMMARY:Rosenkranz
DESCRIPTION:https://pg-windach.de/rosenkranz_id39579
DTSTART;TZID=Europe/Berlin:20260509T180000
DURATION:PT30M
LOCATION:Kirche Mariä Heimsuchung Windach\, Maria am Wege 1\, 86949 Windac
 h
END:VEVENT
BEGIN:VEVENT
UID:sabre-vobject-7a528200-6110-4b0b-9313-f18aa1a4bd5a
DTSTAMP:20260421T200845Z
SUMMARY:VAM
DESCRIPTION:https://pg-windach.de/vam_id39559
DTSTART;TZID=Europe/Berlin:20260509T190000
DURATION:PT30M
LOCATION:Kirche Maria Immaculata Greifenberg\, Hauptstraße 34\, 86926 Grei
 fenberg
END:VEVENT
BEGIN:VEVENT
UID:sabre-vobject-1dc3c02a-f59d-4170-a79b-f3ff56254428
DTSTAMP:20260421T200845Z
SUMMARY:Hl. Messe
DESCRIPTION:https://pg-windach.de/hl-messe_id39592
DTSTART;TZID=Europe/Berlin:20260510T090000
DURATION:PT30M
LOCATION:St. Peter und Paul
END:VEVENT
BEGIN:VEVENT
UID:sabre-vobject-c6477a14-208e-4ab8-b20b-ff6f791a20a4
DTSTAMP:20260421T200845Z
SUMMARY:Hl. Messe
DESCRIPTION:https://pg-windach.de/hl-messe_id39612
DTSTART;TZID=Europe/Berlin:20260510T090000
DURATION:PT30M
LOCATION:St. Urban
END:VEVENT
BEGIN:VEVENT
UID:sabre-vobject-b10d64d5-4fac-4667-84b5-26d1168cf5bb
DTSTAMP:20260421T200845Z
SUMMARY:Pfarrgottesdienst
DESCRIPTION:https://pg-windach.de/pfarrgottesdienst_id39596
DTSTART;TZID=Europe/Berlin:20260510T103000
DURATION:PT30M
LOCATION:Kirche Mariä Heimsuchung Windach\, Maria am Wege 1\, 86949 Windac
 h
END:VEVENT
BEGIN:VEVENT
UID:sabre-vobject-3f5dd290-da4f-4b50-8a80-e4ac74661d5d
DTSTAMP:20260421T200845Z
SUMMARY:Hl. Messe
DESCRIPTION:https://pg-windach.de/hl-messe_id39656
DTSTART;TZID=Europe/Berlin:20260510T103000
DURATION:PT30M
LOCATION:Mariä Schmerzen
END:VEVENT
BEGIN:VEVENT
UID:sabre-vobject-5b6cf25f-f83e-4347-848c-a19f6ddb9374
DTSTAMP:20260421T200845Z
SUMMARY:Maiandacht KDFB
DESCRIPTION:https://pg-windach.de/maiandacht-kdfb_id39590
DTSTART;TZID=Europe/Berlin:20260510T190000
DURATION:PT30M
LOCATION:St. Peter und Paul
END:VEVENT
END:VCALENDAR
