BEGIN:VCALENDAR
VERSION:2.0
PRODID:-//Sabre//Sabre VObject 4.5.8//EN
CALSCALE:GREGORIAN
BEGIN:VEVENT
UID:sabre-vobject-7517a9d9-39fa-41a7-a5f3-48bf07c76611
DTSTAMP:20260421T031229Z
SUMMARY:Rosenkranz
DESCRIPTION:https://pg-windach.de/rosenkranz_id39652
DTSTART;TZID=Europe/Berlin:20260428T183000
DURATION:PT30M
LOCATION:Kirche Mariä Heimsuchung Windach\, Maria am Wege 1\, 86949 Windac
 h
END:VEVENT
END:VCALENDAR
